BEGIN:VCALENDAR
VERSION:2.0
PRODID:-//Evelyne Dodeur - ECPv5.2.0//NONSGML v1.0//EN
CALSCALE:GREGORIAN
METHOD:PUBLISH
X-WR-CALNAME:Evelyne Dodeur
X-ORIGINAL-URL:https://www.evelynedodeur.be
X-WR-CALDESC:évènements pour Evelyne Dodeur
BEGIN:VTIMEZONE
TZID:Europe/Paris
BEGIN:DAYLIGHT
TZOFFSETFROM:+0100
TZOFFSETTO:+0200
TZNAME:CEST
DTSTART:20180325T010000
END:DAYLIGHT
BEGIN:STANDARD
TZOFFSETFROM:+0200
TZOFFSETTO:+0100
TZNAME:CET
DTSTART:20181028T010000
END:STANDARD
END:VTIMEZONE
BEGIN:VEVENT
DTSTART;TZID=Europe/Paris:20180703T093000
DTEND;TZID=Europe/Paris:20180703T163000
DTSTAMP:20260421T105609
CREATED:20180502T134355Z
LAST-MODIFIED:20180705T135037Z
UID:284-1530610200-1530635400@www.evelynedodeur.be
SUMMARY:Formation à une communication consciente\, respectueuse et efficace (jour 1/2)
DESCRIPTION:3 et 5 juillet à Liège (chez Step Entreprendre\, rue des Steppes\, 24 à 4000 Liège) \nLa communication au travail ou à la maison reste un vrai challenge ! Venez expérimenter une autre façon de communiquer inspirée du processus de Marshall Rosenberg. \nConcrètement \nSi le processus de la Communication NonViolente est simple à comprendre\, il n’est pas facile à appliquer au quotidien. Nous vous proposons de l’expérimenter pendant 2 jours à partir de situations vécues par les participants. L’objectif est de découvrir l’outil ou de l’ancrer davantage si vous le connaissez déjà. \nNous distinguerons les faits observables des jugements ; nous identifierons nos émotions et celles des autres pour leur donner du sens ; nous prendrons soin de nos besoins de façon autonome ou en collaboration avec les autres grâce à des demandes claires et précises.\nDans un cadre sécurisant et bienveillant\, nous varierons les moments de réflexion personnelle\, les échanges en petit et grand groupe. \nPoser ses limites\, exprimer un feed-back constructif\, encourager la collaboration\, oser dire non\, solliciter de l’aide\, gérer ses émotions et celles des autres… Autant de compétences qui seront développées. \nPrix : 220€ HTVA – 266\,2€ TVAC (le prix comprend le syllabus + café\, thé\, biscuits) \nInfos et réservation : evelyne.dodeur@evelynedodeur.be ou 0495/67.46.09
URL:https://www.evelynedodeur.be/index.php/event/formation-a-une-communication-consciente-respectueuse-et-efficace-jour-12/
LOCATION:Step Entreprendre\, rue des Steppes\, 24\, liège\, liege\, 4000\, Belgique
CATEGORIES:Formation,homepage2
END:VEVENT
END:VCALENDAR